Workbook

Sheet Công nợ
A1: BẢNG THEO DÕI CÔNG NỢ KHÁCH HÀNG
A2: Tính đến ngày: | C2: =TODAY() | D2: ← tự lấy ngày hôm nay; muốn chốt cuối tháng thì gõ ngày vào ô C2
A3: Tổng còn nợ: | C3: =SUM(F6:F205) | E3: Trong đó quá hạn: | G3: =SUMIF(I6:I205,">0",F6:F205)
A5: Ngày hoá đơn | B5: Số hoá đơn | C5: Khách hàng | D5: Số tiền | E5: Đã thu | F5: Còn nợ | G5: Hạn trả (ngày) | H5: Ngày đến hạn | I5: Quá hạn (ngày) | J5: Tình trạng
A6: 46198 | B6: 0000088 | C6: Nhà hàng Sen Vàng | D6: 6000000 | E6: 2000000 | F6: =IF(D6="","",D6-E6) | G6: 30 | H6: =IF(OR(A6="",G6=""),"",A6+G6) | I6: =IF(OR(F6="",H6=""),"",IF(F6<=0,0,MAX(0,$C$2-H6))) | J6: =IF(F6="","",IF(F6<=0,"Đã thu đủ",IF(I6="","Chưa ghi hạn trả",IF(I6=0,"Chưa đến hạn",IF(I6<=30,"Quá hạn 1–30 ngày",IF(I6<=60,"Quá hạn 31–60 ngày","Quá hạn trên 60 ngày"))))))
A7: 46239 | B7: 0000101 | C7: Cửa hàng Hoà Phát | D7: 18500000 | E7: 18500000 | F7: =IF(D7="","",D7-E7) | G7: 30 | H7: =IF(OR(A7="",G7=""),"",A7+G7) | I7: =IF(OR(F7="",H7=""),"",IF(F7<=0,0,MAX(0,$C$2-H7))) | J7: =IF(F7="","",IF(F7<=0,"Đã thu đủ",IF(I7="","Chưa ghi hạn trả",IF(I7=0,"Chưa đến hạn",IF(I7<=30,"Quá hạn 1–30 ngày",IF(I7<=60,"Quá hạn 31–60 ngày","Quá hạn trên 60 ngày"))))))
A8: 46254 | B8: 0000108 | C8: Tạp hoá Thu Hà | D8: 7200000 | E8: 3000000 | F8: =IF(D8="","",D8-E8) | G8: 30 | H8: =IF(OR(A8="",G8=""),"",A8+G8) | I8: =IF(OR(F8="",H8=""),"",IF(F8<=0,0,MAX(0,$C$2-H8))) | J8: =IF(F8="","",IF(F8<=0,"Đã thu đủ",IF(I8="","Chưa ghi hạn trả",IF(I8=0,"Chưa đến hạn",IF(I8<=30,"Quá hạn 1–30 ngày",IF(I8<=60,"Quá hạn 31–60 ngày","Quá hạn trên 60 ngày"))))))
A9: 46267 | B9: 0000115 | C9: Cửa hàng Hoà Phát | D9: 12400000 | E9: 5000000 | F9: =IF(D9="","",D9-E9) | G9: 45 | H9: =IF(OR(A9="",G9=""),"",A9+G9) | I9: =IF(OR(F9="",H9=""),"",IF(F9<=0,0,MAX(0,$C$2-H9))) | J9: =IF(F9="","",IF(F9<=0,"Đã thu đủ",IF(I9="","Chưa ghi hạn trả",IF(I9=0,"Chưa đến hạn",IF(I9<=30,"Quá hạn 1–30 ngày",IF(I9<=60,"Quá hạn 31–60 ngày","Quá hạn trên 60 ngày"))))))
A10: 46280 | B10: 0000121 | C10: Quán cà phê Mộc | D10: 4650000 | E10: 0 | F10: =IF(D10="","",D10-E10) | G10: 15 | H10: =IF(OR(A10="",G10=""),"",A10+G10) | I10: =IF(OR(F10="",H10=""),"",IF(F10<=0,0,MAX(0,$C$2-H10))) | J10: =IF(F10="","",IF(F10<=0,"Đã thu đủ",IF(I10="","Chưa ghi hạn trả",IF(I10=0,"Chưa đến hạn",IF(I10<=30,"Quá hạn 1–30 ngày",IF(I10<=60,"Quá hạn 31–60 ngày","Quá hạn trên 60 ngày"))))))
A11: 46293 | B11: 0000127 | C11: Tạp hoá Thu Hà | D11: 9800000 | E11: 5000000 | F11: =IF(D11="","",D11-E11) | G11: 30 | H11: =IF(OR(A11="",G11=""),"",A11+G11) | I11: =IF(OR(F11="",H11=""),"",IF(F11<=0,0,MAX(0,$C$2-H11))) | J11: =IF(F11="","",IF(F11<=0,"Đã thu đủ",IF(I11="","Chưa ghi hạn trả",IF(I11=0,"Chưa đến hạn",IF(I11<=30,"Quá hạn 1–30 ngày",IF(I11<=60,"Quá hạn 31–60 ngày","Quá hạn trên 60 ngày"))))))
A12: 46305 | B12: 0000134 | C12: Siêu thị mini Bình An | D12: 15300000 | E12: 0 | F12: =IF(D12="","",D12-E12) | G12: 30 | H12: =IF(OR(A12="",G12=""),"",A12+G12) | I12: =IF(OR(F12="",H12=""),"",IF(F12<=0,0,MAX(0,$C$2-H12))) | J12: =IF(F12="","",IF(F12<=0,"Đã thu đủ",IF(I12="","Chưa ghi hạn trả",IF(I12=0,"Chưa đến hạn",IF(I12<=30,"Quá hạn 1–30 ngày",IF(I12<=60,"Quá hạn 31–60 ngày","Quá hạn trên 60 ngày"))))))
A13: 46313 | B13: 0000140 | C13: Quán cà phê Mộc | D13: 3900000 | E13: 3900000 | F13: =IF(D13="","",D13-E13) | G13: 15 | H13: =IF(OR(A13="",G13=""),"",A13+G13) | I13: =IF(OR(F13="",H13=""),"",IF(F13<=0,0,MAX(0,$C$2-H13))) | J13: =IF(F13="","",IF(F13<=0,"Đã thu đủ",IF(I13="","Chưa ghi hạn trả",IF(I13=0,"Chưa đến hạn",IF(I13<=30,"Quá hạn 1–30 ngày",IF(I13<=60,"Quá hạn 31–60 ngày","Quá hạn trên 60 ngày"))))))
F14: =IF(D14="","",D14-E14) | H14: =IF(OR(A14="",G14=""),"",A14+G14) | I14: =IF(OR(F14="",H14=""),"",IF(F14<=0,0,MAX(0,$C$2-H14))) | J14: =IF(F14="","",IF(F14<=0,"Đã thu đủ",IF(I14="","Chưa ghi hạn trả",IF(I14=0,"Chưa đến hạn",IF(I14<=30,"Quá hạn 1–30 ngày",IF(I14<=60,"Quá hạn 31–60 ngày","Quá hạn trên 60 ngày"))))))
F15: =IF(D15="","",D15-E15) | H15: =IF(OR(A15="",G15=""),"",A15+G15) | I15: =IF(OR(F15="",H15=""),"",IF(F15<=0,0,MAX(0,$C$2-H15))) | J15: =IF(F15="","",IF(F15<=0,"Đã thu đủ",IF(I15="","Chưa ghi hạn trả",IF(I15=0,"Chưa đến hạn",IF(I15<=30,"Quá hạn 1–30 ngày",IF(I15<=60,"Quá hạn 31–60 ngày","Quá hạn trên 60 ngày"))))))
F16: =IF(D16="","",D16-E16) | H16: =IF(OR(A16="",G16=""),"",A16+G16) | I16: =IF(OR(F16="",H16=""),"",IF(F16<=0,0,MAX(0,$C$2-H16))) | J16: =IF(F16="","",IF(F16<=0,"Đã thu đủ",IF(I16="","Chưa ghi hạn trả",IF(I16=0,"Chưa đến hạn",IF(I16<=30,"Quá hạn 1–30 ngày",IF(I16<=60,"Quá hạn 31–60 ngày","Quá hạn trên 60 ngày"))))))
F17: =IF(D17="","",D17-E17) | H17: =IF(OR(A17="",G17=""),"",A17+G17) | I17: =IF(OR(F17="",H17=""),"",IF(F17<=0,0,MAX(0,$C$2-H17))) | J17: =IF(F17="","",IF(F17<=0,"Đã thu đủ",IF(I17="","Chưa ghi hạn trả",IF(I17=0,"Chưa đến hạn",IF(I17<=30,"Quá hạn 1–30 ngày",IF(I17<=60,"Quá hạn 31–60 ngày","Quá hạn trên 60 ngày"))))))
F18: =IF(D18="","",D18-E18) | H18: =IF(OR(A18="",G18=""),"",A18+G18) | I18: =IF(OR(F18="",H18=""),"",IF(F18<=0,0,MAX(0,$C$2-H18))) | J18: =IF(F18="","",IF(F18<=0,"Đã thu đủ",IF(I18="","Chưa ghi hạn trả",IF(I18=0,"Chưa đến hạn",IF(I18<=30,"Quá hạn 1–30 ngày",IF(I18<=60,"Quá hạn 31–60 ngày","Quá hạn trên 60 ngày"))))))
F19: =IF(D19="","",D19-E19) | H19: =IF(OR(A19="",G19=""),"",A19+G19) | I19: =IF(OR(F19="",H19=""),"",IF(F19<=0,0,MAX(0,$C$2-H19))) | J19: =IF(F19="","",IF(F19<=0,"Đã thu đủ",IF(I19="","Chưa ghi hạn trả",IF(I19=0,"Chưa đến hạn",IF(I19<=30,"Quá hạn 1–30 ngày",IF(I19<=60,"Quá hạn 31–60 ngày","Quá hạn trên 60 ngày"))))))
F20: =IF(D20="","",D20-E20) | H20: =IF(OR(A20="",G20=""),"",A20+G20) | I20: =IF(OR(F20="",H20=""),"",IF(F20<=0,0,MAX(0,$C$2-H20))) | J20: =IF(F20="","",IF(F20<=0,"Đã thu đủ",IF(I20="","Chưa ghi hạn trả",IF(I20=0,"Chưa đến hạn",IF(I20<=30,"Quá hạn 1–30 ngày",IF(I20<=60,"Quá hạn 31–60 ngày","Quá hạn trên 60 ngày"))))))
F21: =IF(D21="","",D21-E21) | H21: =IF(OR(A21="",G21=""),"",A21+G21) | I21: =IF(OR(F21="",H21=""),"",IF(F21<=0,0,MAX(0,$C$2-H21))) | J21: =IF(F21="","",IF(F21<=0,"Đã thu đủ",IF(I21="","Chưa ghi hạn trả",IF(I21=0,"Chưa đến hạn",IF(I21<=30,"Quá hạn 1–30 ngày",IF(I21<=60,"Quá hạn 31–60 ngày","Quá hạn trên 60 ngày"))))))
F22: =IF(D22="","",D22-E22) | H22: =IF(OR(A22="",G22=""),"",A22+G22) | I22: =IF(OR(F22="",H22=""),"",IF(F22<=0,0,MAX(0,$C$2-H22))) | J22: =IF(F22="","",IF(F22<=0,"Đã thu đủ",IF(I22="","Chưa ghi hạn trả",IF(I22=0,"Chưa đến hạn",IF(I22<=30,"Quá hạn 1–30 ngày",IF(I22<=60,"Quá hạn 31–60 ngày","Quá hạn trên 60 ngày"))))))
F23: =IF(D23="","",D23-E23) | H23: =IF(OR(A23="",G23=""),"",A23+G23) | I23: =IF(OR(F23="",H23=""),"",IF(F23<=0,0,MAX(0,$C$2-H23))) | J23: =IF(F23="","",IF(F23<=0,"Đã thu đủ",IF(I23="","Chưa ghi hạn trả",IF(I23=0,"Chưa đến hạn",IF(I23<=30,"Quá hạn 1–30 ngày",IF(I23<=60,"Quá hạn 31–60 ngày","Quá hạn trên 60 ngày"))))))
F24: =IF(D24="","",D24-E24) | H24: =IF(OR(A24="",G24=""),"",A24+G24) | I24: =IF(OR(F24="",H24=""),"",IF(F24<=0,0,MAX(0,$C$2-H24))) | J24: =IF(F24="","",IF(F24<=0,"Đã thu đủ",IF(I24="","Chưa ghi hạn trả",IF(I24=0,"Chưa đến hạn",IF(I24<=30,"Quá hạn 1–30 ngày",IF(I24<=60,"Quá hạn 31–60 ngày","Quá hạn trên 60 ngày"))))))
F25: =IF(D25="","",D25-E25) | H25: =IF(OR(A25="",G25=""),"",A25+G25) | I25: =IF(OR(F25="",H25=""),"",IF(F25<=0,0,MAX(0,$C$2-H25))) | J25: =IF(F25="","",IF(F25<=0,"Đã thu đủ",IF(I25="","Chưa ghi hạn trả",IF(I25=0,"Chưa đến hạn",IF(I25<=30,"Quá hạn 1–30 ngày",IF(I25<=60,"Quá hạn 31–60 ngày","Quá hạn trên 60 ngày"))))))
... F205: =IF(D205="","",D205-E205) | H205: =IF(OR(A205="",G205=""),"",A205+G205) | I205: =IF(OR(F205="",H205=""),"",IF(F205<=0,0,MAX(0,$C$2-H205))) | J205: =IF(F205="","",IF(F205<=0,"Đã thu đủ",IF(I205="","Chưa ghi hạn trả",IF(I205=0,"Chưa đến hạn",IF(I205<=30,"Quá hạn 1–30 ngày",IF(I205<=60,"Quá hạn 31–60 ngày","Quá hạn trên 60 ngày"))))))

Sheet Theo khách
A1: CÔNG NỢ THEO TỪNG KHÁCH
A2: Tính đến ngày: | B2: ='Công nợ'!C2
A4: Khách hàng | B4: Còn nợ | C4: Trong đó quá hạn | D4: Số hoá đơn còn nợ
A5: Nhà hàng Sen Vàng | B5: =IF(A5="","",SUMIF('Công nợ'!$C$6:$C$205,A5,'Công nợ'!$F$6:$F$205)) | C5: =IF(A5="","",SUMIFS('Công nợ'!$F$6:$F$205,'Công nợ'!$C$6:$C$205,A5,'Công nợ'!$I$6:$I$205,">0")) | D5: =IF(A5="","",COUNTIFS('Công nợ'!$C$6:$C$205,A5,'Công nợ'!$F$6:$F$205,">0"))
A6: Cửa hàng Hoà Phát | B6: =IF(A6="","",SUMIF('Công nợ'!$C$6:$C$205,A6,'Công nợ'!$F$6:$F$205)) | C6: =IF(A6="","",SUMIFS('Công nợ'!$F$6:$F$205,'Công nợ'!$C$6:$C$205,A6,'Công nợ'!$I$6:$I$205,">0")) | D6: =IF(A6="","",COUNTIFS('Công nợ'!$C$6:$C$205,A6,'Công nợ'!$F$6:$F$205,">0"))
A7: Tạp hoá Thu Hà | B7: =IF(A7="","",SUMIF('Công nợ'!$C$6:$C$205,A7,'Công nợ'!$F$6:$F$205)) | C7: =IF(A7="","",SUMIFS('Công nợ'!$F$6:$F$205,'Công nợ'!$C$6:$C$205,A7,'Công nợ'!$I$6:$I$205,">0")) | D7: =IF(A7="","",COUNTIFS('Công nợ'!$C$6:$C$205,A7,'Công nợ'!$F$6:$F$205,">0"))
A8: Quán cà phê Mộc | B8: =IF(A8="","",SUMIF('Công nợ'!$C$6:$C$205,A8,'Công nợ'!$F$6:$F$205)) | C8: =IF(A8="","",SUMIFS('Công nợ'!$F$6:$F$205,'Công nợ'!$C$6:$C$205,A8,'Công nợ'!$I$6:$I$205,">0")) | D8: =IF(A8="","",COUNTIFS('Công nợ'!$C$6:$C$205,A8,'Công nợ'!$F$6:$F$205,">0"))
A9: Siêu thị mini Bình An | B9: =IF(A9="","",SUMIF('Công nợ'!$C$6:$C$205,A9,'Công nợ'!$F$6:$F$205)) | C9: =IF(A9="","",SUMIFS('Công nợ'!$F$6:$F$205,'Công nợ'!$C$6:$C$205,A9,'Công nợ'!$I$6:$I$205,">0")) | D9: =IF(A9="","",COUNTIFS('Công nợ'!$C$6:$C$205,A9,'Công nợ'!$F$6:$F$205,">0"))
B10: =IF(A10="","",SUMIF('Công nợ'!$C$6:$C$205,A10,'Công nợ'!$F$6:$F$205)) | C10: =IF(A10="","",SUMIFS('Công nợ'!$F$6:$F$205,'Công nợ'!$C$6:$C$205,A10,'Công nợ'!$I$6:$I$205,">0")) | D10: =IF(A10="","",COUNTIFS('Công nợ'!$C$6:$C$205,A10,'Công nợ'!$F$6:$F$205,">0"))
B11: =IF(A11="","",SUMIF('Công nợ'!$C$6:$C$205,A11,'Công nợ'!$F$6:$F$205)) | C11: =IF(A11="","",SUMIFS('Công nợ'!$F$6:$F$205,'Công nợ'!$C$6:$C$205,A11,'Công nợ'!$I$6:$I$205,">0")) | D11: =IF(A11="","",COUNTIFS('Công nợ'!$C$6:$C$205,A11,'Công nợ'!$F$6:$F$205,">0"))
B12: =IF(A12="","",SUMIF('Công nợ'!$C$6:$C$205,A12,'Công nợ'!$F$6:$F$205)) | C12: =IF(A12="","",SUMIFS('Công nợ'!$F$6:$F$205,'Công nợ'!$C$6:$C$205,A12,'Công nợ'!$I$6:$I$205,">0")) | D12: =IF(A12="","",COUNTIFS('Công nợ'!$C$6:$C$205,A12,'Công nợ'!$F$6:$F$205,">0"))
B13: =IF(A13="","",SUMIF('Công nợ'!$C$6:$C$205,A13,'Công nợ'!$F$6:$F$205)) | C13: =IF(A13="","",SUMIFS('Công nợ'!$F$6:$F$205,'Công nợ'!$C$6:$C$205,A13,'Công nợ'!$I$6:$I$205,">0")) | D13: =IF(A13="","",COUNTIFS('Công nợ'!$C$6:$C$205,A13,'Công nợ'!$F$6:$F$205,">0"))
B14: =IF(A14="","",SUMIF('Công nợ'!$C$6:$C$205,A14,'Công nợ'!$F$6:$F$205)) | C14: =IF(A14="","",SUMIFS('Công nợ'!$F$6:$F$205,'Công nợ'!$C$6:$C$205,A14,'Công nợ'!$I$6:$I$205,">0")) | D14: =IF(A14="","",COUNTIFS('Công nợ'!$C$6:$C$205,A14,'Công nợ'!$F$6:$F$205,">0"))
B15: =IF(A15="","",SUMIF('Công nợ'!$C$6:$C$205,A15,'Công nợ'!$F$6:$F$205)) | C15: =IF(A15="","",SUMIFS('Công nợ'!$F$6:$F$205,'Công nợ'!$C$6:$C$205,A15,'Công nợ'!$I$6:$I$205,">0")) | D15: =IF(A15="","",COUNTIFS('Công nợ'!$C$6:$C$205,A15,'Công nợ'!$F$6:$F$205,">0"))
B16: =IF(A16="","",SUMIF('Công nợ'!$C$6:$C$205,A16,'Công nợ'!$F$6:$F$205)) | C16: =IF(A16="","",SUMIFS('Công nợ'!$F$6:$F$205,'Công nợ'!$C$6:$C$205,A16,'Công nợ'!$I$6:$I$205,">0")) | D16: =IF(A16="","",COUNTIFS('Công nợ'!$C$6:$C$205,A16,'Công nợ'!$F$6:$F$205,">0"))
B17: =IF(A17="","",SUMIF('Công nợ'!$C$6:$C$205,A17,'Công nợ'!$F$6:$F$205)) | C17: =IF(A17="","",SUMIFS('Công nợ'!$F$6:$F$205,'Công nợ'!$C$6:$C$205,A17,'Công nợ'!$I$6:$I$205,">0")) | D17: =IF(A17="","",COUNTIFS('Công nợ'!$C$6:$C$205,A17,'Công nợ'!$F$6:$F$205,">0"))
B18: =IF(A18="","",SUMIF('Công nợ'!$C$6:$C$205,A18,'Công nợ'!$F$6:$F$205)) | C18: =IF(A18="","",SUMIFS('Công nợ'!$F$6:$F$205,'Công nợ'!$C$6:$C$205,A18,'Công nợ'!$I$6:$I$205,">0")) | D18: =IF(A18="","",COUNTIFS('Công nợ'!$C$6:$C$205,A18,'Công nợ'!$F$6:$F$205,">0"))
B19: =IF(A19="","",SUMIF('Công nợ'!$C$6:$C$205,A19,'Công nợ'!$F$6:$F$205)) | C19: =IF(A19="","",SUMIFS('Công nợ'!$F$6:$F$205,'Công nợ'!$C$6:$C$205,A19,'Công nợ'!$I$6:$I$205,">0")) | D19: =IF(A19="","",COUNTIFS('Công nợ'!$C$6:$C$205,A19,'Công nợ'!$F$6:$F$205,">0"))
B20: =IF(A20="","",SUMIF('Công nợ'!$C$6:$C$205,A20,'Công nợ'!$F$6:$F$205)) | C20: =IF(A20="","",SUMIFS('Công nợ'!$F$6:$F$205,'Công nợ'!$C$6:$C$205,A20,'Công nợ'!$I$6:$I$205,">0")) | D20: =IF(A20="","",COUNTIFS('Công nợ'!$C$6:$C$205,A20,'Công nợ'!$F$6:$F$205,">0"))
B21: =IF(A21="","",SUMIF('Công nợ'!$C$6:$C$205,A21,'Công nợ'!$F$6:$F$205)) | C21: =IF(A21="","",SUMIFS('Công nợ'!$F$6:$F$205,'Công nợ'!$C$6:$C$205,A21,'Công nợ'!$I$6:$I$205,">0")) | D21: =IF(A21="","",COUNTIFS('Công nợ'!$C$6:$C$205,A21,'Công nợ'!$F$6:$F$205,">0"))
... B54: =IF(A54="","",SUMIF('Công nợ'!$C$6:$C$205,A54,'Công nợ'!$F$6:$F$205)) | C54: =IF(A54="","",SUMIFS('Công nợ'!$F$6:$F$205,'Công nợ'!$C$6:$C$205,A54,'Công nợ'!$I$6:$I$205,">0")) | D54: =IF(A54="","",COUNTIFS('Công nợ'!$C$6:$C$205,A54,'Công nợ'!$F$6:$F$205,">0"))

Sheet Hướng dẫn
A1: HƯỚNG DẪN DÙNG FILE
A3: Sheet Công nợ:
A4: • Mỗi hoá đơn bán chịu ghi một dòng: ngày hoá đơn, số hoá đơn, tên khách, số tiền.
A5: • Khách trả tiền thì cộng dồn vào cột Đã thu của đúng hoá đơn đó (trả một phần cũng ghi).
A6: • Cột Hạn trả (ngày) là số ngày được nợ theo thoả thuận, ví dụ 30.
A7: • Các cột nền xanh (Còn nợ, Ngày đến hạn, Quá hạn, Tình trạng) tự tính; đừng gõ đè lên.
A8: • Ô C2 tự lấy ngày hôm nay. Muốn chốt số liệu cuối tháng thì gõ ngày cuối tháng vào ô C2.
A9: • Dòng tô đỏ: quá hạn trên 60 ngày. Dòng tô vàng: quá hạn từ 1 đến 60 ngày.
A10: Sheet Theo khách:
A11: • Cột A là tên khách, phải gõ giống hệt tên ở sheet Công nợ (có dấu, không thừa dấu cách).
A12: Lưu ý:
A13: • Máy cài Windows tiếng Anh (Mỹ) hiểu 05/10/2026 là ngày 10 tháng 5. Nhập vài dòng rồi xem cột Ngày đến hạn có đúng không.
A14: • Các dòng ví dụ (Nhà hàng Sen Vàng, Cửa hàng Hoà Phát…) có thể xoá. Xoá nội dung ô, đừng xoá cả dòng có công thức.
